BEGIN:VCALENDAR
VERSION:2.0
PRODID:-//wp-events-plugin.com//6.6.4.4//EN
TZID:America/Los_Angeles
X-WR-TIMEZONE:America/Los_Angeles
BEGIN:VEVENT
UID:0-75@yoyocontest.com
DTSTART;TZID=America/Los_Angeles;VALUE=DATE:20230422
DTEND;TZID=America/Los_Angeles;VALUE=DATE:20230423
DTSTAMP:20240217T190614Z
URL:https://yoyocontest.com/events/pacific-northwest-regionals/
SUMMARY:2023 Pacific Northwest Regionals
DESCRIPTION:Event Website for Complete Information:\nhttps://yoyocontest.co
 m/pnwr\nThe Pacific Northwest Regional Yo-Yo Championship (PNWR) is the pr
 emier yo-yo event in the Pacific Northwest.\n\nHeld at the Seattle Center 
 since 2005\, PNWR attracts top talent from the region and around the count
 ry.\n\nCompetitor Registration Link&gt\;&gt\;\n\nMusic Upload Link&gt\;&gt
 \;
ATTACH;FMTTYPE=image/jpeg:https://yoyocontest.com/wp-content/uploads/2023/
 02/Screenshot-of-LaunchBar-2-15-23-2-11-19-PM.jpg
CATEGORIES:Regionals
LOCATION:Seattle Center Armory\, 305 Harrison Street\, Seattle\, WA\, 98109
 \, United States
GEO:47.622806;-122.353007
X-APPLE-STRUCTURED-LOCATION;VALUE=URI;X-ADDRESS=305 Harrison Street\, Seatt
 le\, WA\, 98109\, United States;X-APPLE-RADIUS=100;X-TITLE=Seattle Center 
 Armory:geo:47.622806,-122.353007
END:VEVENT
BEGIN:VTIMEZONE
TZID:America/Los_Angeles
X-LIC-LOCATION:America/Los_Angeles
BEGIN:DAYLIGHT
DTSTART:20230312T030000
TZOFFSETFROM:-0800
TZOFFSETTO:-0700
TZNAME:PDT
END:DAYLIGHT
END:VTIMEZONE
END:VCALENDAR