BEGIN:VCALENDAR
VERSION:2.0
PRODID:-//wp-events-plugin.com//6.6.4.4//EN
TZID:America/Los_Angeles
X-WR-TIMEZONE:America/Los_Angeles
BEGIN:VEVENT
UID:0-82@yoyocontest.com
DTSTART;TZID=America/New_York:20230603T100000
DTEND;TZID=America/New_York:20230603T170000
DTSTAMP:20240217T190614Z
URL:https://yoyocontest.com/events/northeast-regional-yoyo-contest/
SUMMARY:Northeast Regional YoYo Contest
DESCRIPTION:\nOFFICIAL WEBSITE:\nhttps://yoyocontest.com/NER
ATTACH;FMTTYPE=image/jpeg:https://yoyocontest.com/wp-content/uploads/2023/
 04/NER-logo-scaled.jpg
LOCATION:Mass Mutual Center\, 1277 Main St\, Springfield\, MA\, 01103\, Uni
 ted States
GEO:42.101653;-72.587396
X-APPLE-STRUCTURED-LOCATION;VALUE=URI;X-ADDRESS=1277 Main St\, Springfield\
 , MA\, 01103\, United States;X-APPLE-RADIUS=100;X-TITLE=Mass Mutual Center
 :geo:42.101653,-72.587396
END:VEVENT
BEGIN:VTIMEZONE
TZID:America/New_York
X-LIC-LOCATION:America/New_York
BEGIN:DAYLIGHT
DTSTART:20230312T030000
TZOFFSETFROM:-0500
TZOFFSETTO:-0400
TZNAME:EDT
END:DAYLIGHT
END:VTIMEZONE
END:VCALENDAR