BEGIN:VCALENDAR
VERSION:2.0
PRODID:-//wp-events-plugin.com//6.6.4.4//EN
TZID:America/Los_Angeles
X-WR-TIMEZONE:America/Los_Angeles
BEGIN:VEVENT
UID:0-99@yoyocontest.com
DTSTART;TZID=America/Denver:20240706T120000
DTEND;TZID=America/Denver:20240706T160000
DTSTAMP:20240326T142601Z
URL:https://yoyocontest.com/events/mile-high-yoyo-jamboree-2/
SUMMARY:Mile High Yoyo Jamboree 2
DESCRIPTION:A non judged yoyo performance from various participants of all 
 skill levels intended to delight audiences!\n\nThrowers will perform a 1-3
  minute freestyle in any style and prizes are awarded at random based on t
 he courage to participate rather than comparative skill.\n\nTHE PEOPLE'S B
 UILDING\n9995 E Colfax Ave\nAurora\, CO 80010\n\nWWW.MILEHIGHYOYO.COM\n\n
ATTACH;FMTTYPE=image/jpeg:https://yoyocontest.com/wp-content/uploads/2024/
 03/01982CB2-AFC2-484B-841F-6EBF948DC24D.png
CATEGORIES:Other Contests
LOCATION:THE PEOPLE'S BUILDING\, 9995 E Colfax Ave\, Aurora\, Aurora\, Auro
 ra\, United States
GEO:39.740438;-104.872005
X-APPLE-STRUCTURED-LOCATION;VALUE=URI;X-ADDRESS=9995 E Colfax Ave\, Aurora\
 , Aurora\, Aurora\, United States;X-APPLE-RADIUS=100;X-TITLE=THE PEOPLE'S 
 BUILDING:geo:39.740438,-104.872005
END:VEVENT
BEGIN:VTIMEZONE
TZID:America/Denver
X-LIC-LOCATION:America/Denver
BEGIN:DAYLIGHT
DTSTART:20240310T030000
TZOFFSETFROM:-0700
TZOFFSETTO:-0600
TZNAME:MDT
END:DAYLIGHT
END:VTIMEZONE
END:VCALENDAR