BEGIN:VCALENDAR
VERSION:2.0
PRODID:-//wp-events-plugin.com//6.6.4.4//EN
TZID:America/Los_Angeles
X-WR-TIMEZONE:America/Los_Angeles
BEGIN:VEVENT
UID:0-114@yoyocontest.com
DTSTART;TZID=America/New_York:20250315T090000
DTEND;TZID=America/New_York:20250315T170000
DTSTAMP:20250403T185607Z
URL:https://yoyocontest.com/events/east-coast-masters/
SUMMARY:2025 East Coast Masters
DESCRIPTION:\nEast Coast Masters Yo-Yo Contest\n🗓 Saturday\, March 15\n
 ⏰ 9 AM – 5 PM EDT\n📍 Velum Fermentation\n2120 Jane Street\, Pittsbu
 rgh\, PA 15203\nThe East Coast Masters Yo-Yo Contest brings together top t
 alent from across the region for a full day of competition and skill-based
  entertainment. Featuring intense yo-yo battles\, skill toy demonstrations
 \, and a vibrant community atmosphere\, this event offers an exciting expe
 rience for both competitors and spectators alike.\nWhether participating i
 n the competition or enjoying the performances\, attendees can expect a hi
 gh-energy celebration of skill\, creativity\, and passion for yo-yoing.\n\
 nRegistration &amp\; Info here.\nInstagram Page here.
ATTACH;FMTTYPE=image/jpeg:https://yoyocontest.com/wp-content/uploads/2025/
 02/East-Coast-Masters-YoYo-Contest.jpg
CATEGORIES:Other Contests
LOCATION:Velum Fermentation\, 2120 Jane Stree\,  Pittsburgh\, PA\, 15203\, 
 United States
GEO:40.426585;-79.975992
X-APPLE-STRUCTURED-LOCATION;VALUE=URI;X-ADDRESS=2120 Jane Stree\,  Pittsbur
 gh\, PA\, 15203\, United States;X-APPLE-RADIUS=100;X-TITLE=Velum Fermentat
 ion:geo:40.426585,-79.975992
END:VEVENT
BEGIN:VTIMEZONE
TZID:America/New_York
X-LIC-LOCATION:America/New_York
BEGIN:DAYLIGHT
DTSTART:20250309T030000
TZOFFSETFROM:-0500
TZOFFSETTO:-0400
TZNAME:EDT
END:DAYLIGHT
END:VTIMEZONE
END:VCALENDAR