BEGIN:VCALENDAR
VERSION:2.0
PRODID:-//wp-events-plugin.com//6.6.4.4//EN
TZID:America/Los_Angeles
X-WR-TIMEZONE:America/Los_Angeles
BEGIN:VEVENT
UID:0-133@yoyocontest.com
DTSTART;TZID=America/Kentucky/Louisville:20260606T093000
DTEND;TZID=America/Kentucky/Louisville:20260606T163000
DTSTAMP:20260305T011335Z
URL:https://yoyocontest.com/events/2026-uyyc-united-yoyo-contest/
SUMMARY:2026 UYYC United Yoyo Contest
DESCRIPTION:\n\n\n\n\nWe are excited to announce the 2026 United YoYo &amp\
 ; Kendama Contest is taking place on National YoYo Day! UYYC 26 will take 
 place at the Missouri History Museum inside St. Louis Forest Park. This ye
 ar’s event also sees the return of UYYC Judge Sebastian Brock and our ne
 west emcee to host in STL….Mr Graeme Steller!\nWebsite: UYYC.org\n\n\n\n
ATTACH;FMTTYPE=image/jpeg:https://yoyocontest.com/wp-content/uploads/2026/
 02/Graeme-scaled.jpg
CATEGORIES:State Contests
LOCATION:Missouri History Museum\, 5700 Lindell Blvd\,  St Louis\, MO\, 631
 12\, United States
GEO:38.645248;-90.285738
X-APPLE-STRUCTURED-LOCATION;VALUE=URI;X-ADDRESS=5700 Lindell Blvd\,  St Lou
 is\, MO\, 63112\, United States;X-APPLE-RADIUS=100;X-TITLE=Missouri Histor
 y Museum:geo:38.645248,-90.285738
END:VEVENT
BEGIN:VTIMEZONE
TZID:America/Kentucky/Louisville
X-LIC-LOCATION:America/Kentucky/Louisville
BEGIN:DAYLIGHT
DTSTART:20260308T030000
TZOFFSETFROM:-0500
TZOFFSETTO:-0400
TZNAME:EDT
END:DAYLIGHT
END:VTIMEZONE
END:VCALENDAR