BEGIN:VCALENDAR
VERSION:2.0
PRODID:-//wp-events-plugin.com//6.6.4.4//EN
TZID:America/Los_Angeles
X-WR-TIMEZONE:America/Los_Angeles
BEGIN:VEVENT
UID:0-129@yoyocontest.com
DTSTART;TZID=America/Los_Angeles:20260307T100000
DTEND;TZID=America/Los_Angeles:20260307T170000
DTSTAMP:20260206T180020Z
URL:https://yoyocontest.com/events/2026-pacific-northwest-regionals/
SUMMARY:2026 Pacific Northwest Regionals
DESCRIPTION:The Pacific Northwest Regional Yo-Yo Championship (PNWR) is the
  premier yo-yo event in the Pacific Northwest\, attracting top talent from
  the region and beyond.\nPNWR returns to Portland\, Oregon! Join us for an
  incredible event at the iconic Crystal Ballroom on Saturday\, March 7t
 h\, 2026.\nEvent Details:\n Location: Crystal Ballroom\, Portland\, Oreg
 on\n Date: Saturday\, March 7th\, 2026\n Tickets: Competitor fees incl
 ude admission\, but spectators must purchase tickets separately here. Tic
 kets are $5 for attendees under 13 and $11 for those 13 and up.\n\nEven
 t website here.
ATTACH;FMTTYPE=image/jpeg:https://yoyocontest.com/wp-content/uploads/2025/
 02/ScreenFloat-Shot-of-Finder-at-Feb-2-2025-at-7_55_43 PM.png
CATEGORIES:Regionals
LOCATION:Crystal Ballroom\, 1332 West Burnside Street\, Portland\, Oregon\,
  97209\, United States
GEO:45.522819;-122.684718
X-APPLE-STRUCTURED-LOCATION;VALUE=URI;X-ADDRESS=1332 West Burnside Street\,
  Portland\, Oregon\, 97209\, United States;X-APPLE-RADIUS=100;X-TITLE=Crys
 tal Ballroom:geo:45.522819,-122.684718
END:VEVENT
BEGIN:VTIMEZONE
TZID:America/Los_Angeles
X-LIC-LOCATION:America/Los_Angeles
BEGIN:STANDARD
DTSTART:20251102T010000
TZOFFSETFROM:-0700
TZOFFSETTO:-0800
TZNAME:PST
END:STANDARD
END:VTIMEZONE
END:VCALENDAR