BEGIN:VCALENDAR
VERSION:2.0
PRODID:-//wp-events-plugin.com//6.6.4.4//EN
TZID:America/Los_Angeles
X-WR-TIMEZONE:America/Los_Angeles
BEGIN:VEVENT
UID:0-127@yoyocontest.com
DTSTART;TZID=America/New_York:20260117T100000
DTEND;TZID=America/New_York:20260117T160000
DTSTAMP:20260114T233527Z
URL:https://yoyocontest.com/events/2026-pa-state-yo-yo-contest/
SUMMARY:2026 PA State Yo-Yo Contest
DESCRIPTION:The 2026 PA State Yoyo Contest is being held at Deer Lakes East
  Union Intermediate Center on January 17th. This contest has divisions for
  all skill groups.\nMore info can be found here:\nhttps://linktr.ee/PAstat
 eyoyo\nFacebook Event Page
ATTACH;FMTTYPE=image/jpeg:https://yoyocontest.com/wp-content/uploads/2026/
 01/PA-STATES-GRAPHICS-V01-12.png
LOCATION:Deer Lakes East Union Intermediate Center\, 57 East Union Road\, C
 heswick\, PA\, Cheswick\, United States
GEO:40.62199;-79.857595
X-APPLE-STRUCTURED-LOCATION;VALUE=URI;X-ADDRESS=57 East Union Road\, Cheswi
 ck\, PA\, Cheswick\, United States;X-APPLE-RADIUS=100;X-TITLE=Deer Lakes E
 ast Union Intermediate Center:geo:40.62199,-79.857595
END:VEVENT
BEGIN:VTIMEZONE
TZID:America/New_York
X-LIC-LOCATION:America/New_York
BEGIN:STANDARD
DTSTART:20251102T010000
TZOFFSETFROM:-0400
TZOFFSETTO:-0500
TZNAME:EST
END:STANDARD
END:VTIMEZONE
END:VCALENDAR