BEGIN:VCALENDAR
VERSION:2.0
PRODID:-//wp-events-plugin.com//6.6.4.4//EN
TZID:America/Los_Angeles
X-WR-TIMEZONE:America/Los_Angeles
BEGIN:VEVENT
UID:0-122@yoyocontest.com
DTSTART;TZID=America/New_York:20260207T100000
DTEND;TZID=America/New_York:20260207T170000
DTSTAMP:20250906T215602Z
URL:https://yoyocontest.com/events/2026-massachusetts-state-yoyo-contest/
SUMMARY:2026 Massachusetts State YoYo Contest
DESCRIPTION:
ATTACH;FMTTYPE=image/jpeg:https://yoyocontest.com/wp-content/uploads/2025/
 08/ScreenFloat-Shot-of-Adobe-Photoshop-2024-on-2025-08-25-at-11-30-12.png
LOCATION:UMass Amherst Student Union Ballroom\, 41 Campus Center Way\, Amhe
 rst\, MA\, 01003\, United States
GEO:42.390849;-72.52722
X-APPLE-STRUCTURED-LOCATION;VALUE=URI;X-ADDRESS=41 Campus Center Way\, Amhe
 rst\, MA\, 01003\, United States;X-APPLE-RADIUS=100;X-TITLE=UMass Amherst 
 Student Union Ballroom:geo:42.390849,-72.52722
END:VEVENT
BEGIN:VTIMEZONE
TZID:America/New_York
X-LIC-LOCATION:America/New_York
BEGIN:STANDARD
DTSTART:20251102T010000
TZOFFSETFROM:-0400
TZOFFSETTO:-0500
TZNAME:EST
END:STANDARD
END:VTIMEZONE
END:VCALENDAR