BEGIN:VCALENDAR
VERSION:2.0
PRODID:-//wp-events-plugin.com//6.6.4.4//EN
TZID:America/Los_Angeles
X-WR-TIMEZONE:America/Los_Angeles
BEGIN:VEVENT
UID:0-126@yoyocontest.com
DTSTART;TZID=America/Los_Angeles:20260207T100000
DTEND;TZID=America/Los_Angeles:20260207T170000
DTSTAMP:20260121T213820Z
URL:https://yoyocontest.com/events/2026-cen-cal-classic-yo-yo-championship
 /
SUMMARY:2026 Cen.Cal. Classic Yo-Yo Championship
DESCRIPTION:Hosted by the Central California Yo-Yo Club\, this exciting eve
 nt brings together yo-yo players from across the Central Valley and beyond
 . Whether you’re a seasoned competitor or just getting started\, the Cla
 ssic is your chance to experience the creativity\, skill\, and community t
 hat make yo-yoing such a fun and inspiring hobby. With help from the Natio
 nal Yo-Yo League and local sponsors\, we are proud to bring the energy of 
 the yo-yo world to Fresno for a full day of competition and connection.\nC
 ontest Website: https://yoyocontest.com/cencalclassic/\nRegister &amp\; Mu
 sic Upload: https://nyyl.org/yoyo-contests/2026-cen-cal-classic-yo-yo-cont
 est-registration/
ATTACH;FMTTYPE=image/jpeg:https://yoyocontest.com/wp-content/uploads/2025/
 12/Cen-Cal-Classic-Logo.png
LOCATION:Diana Court Banquet Hall\, 5351 N Diana St\, Fresno\, CA\, 93710\,
  United States
GEO:36.814251;-119.78767
X-APPLE-STRUCTURED-LOCATION;VALUE=URI;X-ADDRESS=5351 N Diana St\, Fresno\, 
 CA\, 93710\, United States;X-APPLE-RADIUS=100;X-TITLE=Diana Court Banquet 
 Hall:geo:36.814251,-119.78767
END:VEVENT
BEGIN:VTIMEZONE
TZID:America/Los_Angeles
X-LIC-LOCATION:America/Los_Angeles
BEGIN:STANDARD
DTSTART:20251102T010000
TZOFFSETFROM:-0700
TZOFFSETTO:-0800
TZNAME:PST
END:STANDARD
END:VTIMEZONE
END:VCALENDAR