BEGIN:VCALENDAR
VERSION:2.0
PRODID:-//wp-events-plugin.com//6.6.4.4//EN
TZID:America/Los_Angeles
X-WR-TIMEZONE:America/Los_Angeles
BEGIN:VEVENT
UID:0-121@yoyocontest.com
DTSTART;TZID=Europe/Prague;VALUE=DATE:20250807
DTEND;TZID=Europe/Prague;VALUE=DATE:20250811
DTSTAMP:20250804T011419Z
URL:https://yoyocontest.com/events/2025-world-yo-yo-contest/
SUMMARY:2025 World Yo-Yo Contest
DESCRIPTION:\n\n\n\n\n\n&nbsp\;
ATTACH;FMTTYPE=image/jpeg:https://yoyocontest.com/wp-content/uploads/2025/
 08/ScreenFloat-Shot-of-Google-Chrome-at-Aug-3-2025-at-9_12_19-PM.png
LOCATION:Centrum Cubex Prague\, Na Strži 2097/63\, 140 00\, Prague\, Nusle
 \, 4\, Czech Republic
GEO:50.049794;14.439629
X-APPLE-STRUCTURED-LOCATION;VALUE=URI;X-ADDRESS=Na Strži 2097/63\, 140 00\
 , Prague\, Nusle\, 4\, Czech Republic;X-APPLE-RADIUS=100;X-TITLE=Centrum C
 ubex Prague:geo:50.049794,14.439629
END:VEVENT
BEGIN:VTIMEZONE
TZID:Europe/Prague
X-LIC-LOCATION:Europe/Prague
BEGIN:DAYLIGHT
DTSTART:20250330T030000
TZOFFSETFROM:+0100
TZOFFSETTO:+0200
TZNAME:CEST
END:DAYLIGHT
END:VTIMEZONE
END:VCALENDAR