BEGIN:VCALENDAR
VERSION:2.0
PRODID:-//wp-events-plugin.com//6.6.4.4//EN
TZID:America/Los_Angeles
X-WR-TIMEZONE:America/Los_Angeles
BEGIN:VEVENT
UID:0-111@yoyocontest.com
DTSTART;TZID=America/Kentucky/Louisville:20250607T093000
DTEND;TZID=America/Kentucky/Louisville:20250607T153000
DTSTAMP:20250128T193810Z
URL:https://yoyocontest.com/events/2025-uyyc-united-yoyo-contest/
SUMMARY:2025 UYYC United Yoyo Contest
DESCRIPTION:\n\n\n\n\nEvent Website:\nhttps://yoyocontest.com/unitedyoyo/\n
 Thank you for your interest in the 2025 UYYC contest. Please take a moment
  to review all the options for registering for this year’s event at the 
 Missouri History Museum. Now that you are here it is time to register onli
 ne and upload your music from the contest link\; so the only thing you hav
 e to do when you arrive at the contest is check-in!\n\nUYYC REGISTRATION\n
 $60 YOYO 2 day pass (includes Kendama)\n*includes: 1A division \, X divisi
 on\, Sport Division\, and all Kendama events\n\n$40 KENDAMA *2 day pass ($
 20 Yoyo division add-on)\n*includes: Kendama ladders\, Kendama freestyles\
 n\nThis year's 2 day pass includes both Friday night Kendama &amp\; YoYo l
 adders and all Saturday ladder and freestyle events. Your paid registratio
 n makes you eligible to win Kendama and Yoyo prizes from our sponsors on b
 oth June 6-7\, 2025!\n\nFRIDAY June 6th 6pm-10pm\n*early check-in / pick u
 p 2-day pass\nEarly check-in and registration is at the STL City Foundry. 
 Join us Friday night for a chance to win $1000 in prize giveaways from 6pm
 -10pm in the City Foundry Food Hall and grab St. Louis BBQ with us!\n\nSat
 urday\, June 7th 9:30am-3:30pm\nUYYC 25 hosted at the Missouri History Mus
 eum inside Forest Park! Contests to include 1A and X Divisions\, Sport Div
 ision\, and Kendama freestyles. Also Saturday will be a continuation of al
 l Kendama ladders and an after party at the St. Louis City Foundry!\n\n\n\
 n\n
ATTACH;FMTTYPE=image/jpeg:https://yoyocontest.com/wp-content/uploads/2023/
 05/img_6581.jpg
CATEGORIES:State Contests
LOCATION:Missouri History Museum\, 5700 Lindell Blvd\,  St Louis\, MO\, 631
 12\, United States
GEO:38.645248;-90.285738
X-APPLE-STRUCTURED-LOCATION;VALUE=URI;X-ADDRESS=5700 Lindell Blvd\,  St Lou
 is\, MO\, 63112\, United States;X-APPLE-RADIUS=100;X-TITLE=Missouri Histor
 y Museum:geo:38.645248,-90.285738
END:VEVENT
BEGIN:VTIMEZONE
TZID:America/Kentucky/Louisville
X-LIC-LOCATION:America/Kentucky/Louisville
BEGIN:DAYLIGHT
DTSTART:20250309T030000
TZOFFSETFROM:-0500
TZOFFSETTO:-0400
TZNAME:EDT
END:DAYLIGHT
END:VTIMEZONE
END:VCALENDAR