BEGIN:VCALENDAR
VERSION:2.0
PRODID:-//wp-events-plugin.com//6.6.4.4//EN
TZID:America/Los_Angeles
X-WR-TIMEZONE:America/Los_Angeles
BEGIN:VEVENT
UID:0-107@yoyocontest.com
DTSTART;TZID=America/New_York:20250111T100000
DTEND;TZID=America/New_York:20250111T160000
DTSTAMP:20250109T171834Z
URL:https://yoyocontest.com/events/2025-steel-city-throwers/
SUMMARY:2025 Steel City Throwers
DESCRIPTION:\n\nEvent Links:\n\nhttps://linktr.ee/Steelcitythrowers\n\nhttp
 s://4amadness.wixsite.com/mysite
ATTACH;FMTTYPE=image/jpeg:https://yoyocontest.com/wp-content/uploads/2025/
 01/Steel-City.jpg
LOCATION:Deer Lakes East Union Intermediate Center\, 57 East Union Road\, C
 heswick\, PA\, Cheswick\, United States
GEO:40.62199;-79.857595
X-APPLE-STRUCTURED-LOCATION;VALUE=URI;X-ADDRESS=57 East Union Road\, Cheswi
 ck\, PA\, Cheswick\, United States;X-APPLE-RADIUS=100;X-TITLE=Deer Lakes E
 ast Union Intermediate Center:geo:40.62199,-79.857595
END:VEVENT
BEGIN:VTIMEZONE
TZID:America/New_York
X-LIC-LOCATION:America/New_York
BEGIN:STANDARD
DTSTART:20241103T010000
TZOFFSETFROM:-0400
TZOFFSETTO:-0500
TZNAME:EST
END:STANDARD
END:VTIMEZONE
END:VCALENDAR