BEGIN:VCALENDAR
VERSION:2.0
PRODID:-//wp-events-plugin.com//6.6.4.4//EN
TZID:America/Los_Angeles
X-WR-TIMEZONE:America/Los_Angeles
BEGIN:VEVENT
UID:0-117@yoyocontest.com
DTSTART;TZID=America/Los_Angeles:20250503T090000
DTEND;TZID=America/Los_Angeles:20250503T160000
DTSTAMP:20250405T180025Z
URL:https://yoyocontest.com/events/2025-san-diego-classic-yoyo-contest/
SUMMARY:2025 San Diego Classic Yoyo Contest
DESCRIPTION:Come join us at the 2nd Annual San Diego Classic Yoyo Contest 2
 025 for a day filled with yoyo tricks\, fun\, and friendly competition! Wh
 ether you're a seasoned pro or just starting out\, this event is perfect f
 or yoyo enthusiasts of all levels. Show off your skills\, meet fellow yoyo
  players\, and maybe even take home a trophy! Don't miss out on this excit
 ing opportunity to be part of the yoyo community in sunny San Diego. See y
 ou there!\n\n
ATTACH;FMTTYPE=image/jpeg:https://yoyocontest.com/wp-content/uploads/2025/
 04/San-Diego-YoYo-Contest.jpeg
CATEGORIES:Other Contests
LOCATION:Queen Bee's Arts and Cultural Center\, 3925 Ohio St.\, North Park\
 , CA\, 92104\, United States
GEO:32.74898;-117.128636
X-APPLE-STRUCTURED-LOCATION;VALUE=URI;X-ADDRESS=3925 Ohio St.\, North Park\
 , CA\, 92104\, United States;X-APPLE-RADIUS=100;X-TITLE=Queen Bee's Arts a
 nd Cultural Center:geo:32.74898,-117.128636
END:VEVENT
BEGIN:VTIMEZONE
TZID:America/Los_Angeles
X-LIC-LOCATION:America/Los_Angeles
BEGIN:DAYLIGHT
DTSTART:20250309T030000
TZOFFSETFROM:-0800
TZOFFSETTO:-0700
TZNAME:PDT
END:DAYLIGHT
END:VTIMEZONE
END:VCALENDAR