BEGIN:VCALENDAR
VERSION:2.0
PRODID:-//wp-events-plugin.com//6.6.4.4//EN
TZID:America/Los_Angeles
X-WR-TIMEZONE:America/Los_Angeles
BEGIN:VEVENT
UID:0-112@yoyocontest.com
DTSTART;TZID=America/Los_Angeles:20250329T100000
DTEND;TZID=America/Los_Angeles:20250329T170000
DTSTAMP:20250203T005912Z
URL:https://yoyocontest.com/events/2025-pacific-northwest-regionals/
SUMMARY:2025 Pacific Northwest Regionals
DESCRIPTION:\nThe Pacific Northwest Regional Yo-Yo Championship (PNWR) is t
 he premier yo-yo event in the Pacific Northwest\, attracting top talent fr
 om the region and beyond.\nExciting News for 2025: PNWR is moving to Port
 land\, Oregon! Join us for an incredible event at the iconic Crystal Ball
 room on Saturday\, March 29th\, 2025.\nEvent Details:\n📍 Location: Cr
 ystal Ballroom\, Portland\, Oregon\n📅 Date: Saturday\, March 29th\, 202
 5\n\nEvent website here.
ATTACH;FMTTYPE=image/jpeg:https://yoyocontest.com/wp-content/uploads/2025/
 02/ScreenFloat-Shot-of-Finder-at-Feb-2-2025-at-7_55_43 PM.png
CATEGORIES:Regionals
LOCATION:Crystal Ballroom\, 1332 West Burnside Street\, Portland\, Oregon\,
  97209\, United States
GEO:45.522819;-122.684718
X-APPLE-STRUCTURED-LOCATION;VALUE=URI;X-ADDRESS=1332 West Burnside Street\,
  Portland\, Oregon\, 97209\, United States;X-APPLE-RADIUS=100;X-TITLE=Crys
 tal Ballroom:geo:45.522819,-122.684718
END:VEVENT
BEGIN:VTIMEZONE
TZID:America/Los_Angeles
X-LIC-LOCATION:America/Los_Angeles
BEGIN:DAYLIGHT
DTSTART:20250309T030000
TZOFFSETFROM:-0800
TZOFFSETTO:-0700
TZNAME:PDT
END:DAYLIGHT
END:VTIMEZONE
END:VCALENDAR