BEGIN:VCALENDAR
VERSION:2.0
PRODID:-//wp-events-plugin.com//6.6.4.4//EN
TZID:America/Los_Angeles
X-WR-TIMEZONE:America/Los_Angeles
BEGIN:VEVENT
UID:0-119@yoyocontest.com
DTSTART;TZID=America/New_York:20251004T100000
DTEND;TZID=America/New_York:20251004T220000
DTSTAMP:20250804T010128Z
URL:https://yoyocontest.com/events/2025-new-york-state-yoyo-contest/
SUMMARY:2025 New York State YoYo Contest
DESCRIPTION:\n\n
ATTACH;FMTTYPE=image/jpeg:https://yoyocontest.com/wp-content/uploads/2025/
 08/ScreenFloat-Shot-of-Google-Chrome-at-Aug-3-2025-at-8_59_01-PM.png
CATEGORIES:State Contests
LOCATION:Brooklyn Children’s Museum\, 145 Brooklyn Ave\, Brooklyn\, NY\, 
 11213\, United States
GEO:40.674401;-73.943973
X-APPLE-STRUCTURED-LOCATION;VALUE=URI;X-ADDRESS=145 Brooklyn Ave\, Brooklyn
 \, NY\, 11213\, United States;X-APPLE-RADIUS=100;X-TITLE=Brooklyn Children
 ’s Museum:geo:40.674401,-73.943973
END:VEVENT
BEGIN:VTIMEZONE
TZID:America/New_York
X-LIC-LOCATION:America/New_York
BEGIN:DAYLIGHT
DTSTART:20250309T030000
TZOFFSETFROM:-0500
TZOFFSETTO:-0400
TZNAME:EDT
END:DAYLIGHT
END:VTIMEZONE
END:VCALENDAR