BEGIN:VCALENDAR
VERSION:2.0
PRODID:-//wp-events-plugin.com//6.6.4.4//EN
TZID:America/Los_Angeles
X-WR-TIMEZONE:America/Los_Angeles
BEGIN:VEVENT
UID:0-116@yoyocontest.com
DTSTART;TZID=America/Los_Angeles;VALUE=DATE:20250627
DTEND;TZID=America/Los_Angeles;VALUE=DATE:20250630
DTSTAMP:20250405T174604Z
URL:https://yoyocontest.com/events/2025-national-yo-yo-contest-2/
SUMMARY:2025 National Yo-Yo Contest
DESCRIPTION:\nEvent Website:https://nationalyoyocontest.com/\n\n\n\n&nbsp\;
 \n
ATTACH;FMTTYPE=image/jpeg:https://yoyocontest.com/wp-content/uploads/2025/
 04/2025-National-YoYo-Contest-Emblem.jpg
CATEGORIES:Nationals
LOCATION:Westgate Las Vegas\, 3000 Paradise Rd\, Las Vegas\, NV\, 89109\, U
 nited States
GEO:36.135182;-115.15149
X-APPLE-STRUCTURED-LOCATION;VALUE=URI;X-ADDRESS=3000 Paradise Rd\, Las Vega
 s\, NV\, 89109\, United States;X-APPLE-RADIUS=100;X-TITLE=Westgate Las Veg
 as:geo:36.135182,-115.15149
END:VEVENT
BEGIN:VTIMEZONE
TZID:America/Los_Angeles
X-LIC-LOCATION:America/Los_Angeles
BEGIN:DAYLIGHT
DTSTART:20250309T030000
TZOFFSETFROM:-0800
TZOFFSETTO:-0700
TZNAME:PDT
END:DAYLIGHT
END:VTIMEZONE
END:VCALENDAR