BEGIN:VCALENDAR
VERSION:2.0
PRODID:-//wp-events-plugin.com//6.6.4.4//EN
TZID:America/Los_Angeles
X-WR-TIMEZONE:America/Los_Angeles
BEGIN:VEVENT
UID:0-120@yoyocontest.com
DTSTART:20251005T160000Z
DTEND:20251005T220000Z
DTSTAMP:20250804T010906Z
URL:https://yoyocontest.com/events/2025-minnesota-state-yo-yo-contest/
SUMMARY:2025 Minnesota State Yo-Yo Contest
DESCRIPTION:\nThe 2025 Minnesota State Yo-Yo Contest will take place on Oc
 tober 5 from 10:00AM-3:00PM at the Underground Music Venue in Minneapolis
 . Watch the best players in the state share their best tricks for a shot a
 t the title of state yo-yo champion!\n\nCompetitors will perform a 1 or 2 
 minute routine on stage with music of their choice. They will be judged ba
 sed on their technical ability and performance skills. The title of state 
 yo-yo champion will be given to the winners of the 1A and X-Division categ
 ories. For more details on the different divisions and how they are judged
 \, please visit https://www.mnyoyoclub.com/eventscontests/mn-states.\n\n\
 n\nhttps://yoyocontest.com/minnesota/
ATTACH;FMTTYPE=image/jpeg:https://yoyocontest.com/wp-content/uploads/2025/
 08/MN-States-Logo-Banner-scaled.png
LOCATION:Underground Music Venue\, 408 N 3rd Ave\, Minneapolis\, MN\, 55401
 \, United States
GEO:44.982741;-93.275328
X-APPLE-STRUCTURED-LOCATION;VALUE=URI;X-ADDRESS=408 N 3rd Ave\, Minneapolis
 \, MN\, 55401\, United States;X-APPLE-RADIUS=100;X-TITLE=Underground Music
  Venue:geo:44.982741,-93.275328
END:VEVENT
END:VCALENDAR