BEGIN:VCALENDAR
VERSION:2.0
PRODID:-//wp-events-plugin.com//6.6.4.4//EN
TZID:America/Los_Angeles
X-WR-TIMEZONE:America/Los_Angeles
BEGIN:VEVENT
UID:0-118@yoyocontest.com
DTSTART;TZID=America/Indiana/Indianapolis:20251004T090000
DTEND;TZID=America/Indiana/Indianapolis:20251004T200000
DTSTAMP:20250804T012515Z
URL:https://yoyocontest.com/events/2025-indiana-state-yo-yo-contest/
SUMMARY:2025 Indiana State Yo-Yo Contest
DESCRIPTION:https://yoyocontest.com/indiana/
ATTACH;FMTTYPE=image/jpeg:https://yoyocontest.com/wp-content/uploads/2025/
 08/2025-Indiana-State-YoYo-Contest.jpg
CATEGORIES:State Contests
LOCATION:The Irving Theater\, 5505 E Washington St\, Indianapolis\, IN\, 46
 219\, United States
GEO:39.770503;-86.073348
X-APPLE-STRUCTURED-LOCATION;VALUE=URI;X-ADDRESS=5505 E Washington St\, Indi
 anapolis\, IN\, 46219\, United States;X-APPLE-RADIUS=100;X-TITLE=The Irvin
 g Theater:geo:39.770503,-86.073348
END:VEVENT
BEGIN:VTIMEZONE
TZID:America/Indiana/Indianapolis
X-LIC-LOCATION:America/Indiana/Indianapolis
BEGIN:DAYLIGHT
DTSTART:20250309T030000
TZOFFSETFROM:-0500
TZOFFSETTO:-0400
TZNAME:EDT
END:DAYLIGHT
END:VTIMEZONE
END:VCALENDAR