BEGIN:VCALENDAR
VERSION:2.0
PRODID:-//wp-events-plugin.com//6.6.4.4//EN
TZID:America/Los_Angeles
X-WR-TIMEZONE:America/Los_Angeles
BEGIN:VEVENT
UID:0-125@yoyocontest.com
DTSTART;TZID=America/New_York:20251109T100000
DTEND;TZID=America/New_York:20251109T160000
DTSTAMP:20251007T020413Z
URL:https://yoyocontest.com/events/2025-illinois-state-yo-yo-contest/
SUMMARY:2025 Illinois State Yo-Yo Contest
DESCRIPTION:\n\nThe Illinois State Yo-Yo Contest brings players from across
  the state (and beyond) together for two days of competition\, community\,
  and fun. Whether you’re a seasoned competitor or stepping on stage for 
 the very first time\, there’s a division for you.\n\nDivisions include:\
 n• 1A\, Dual Hand (2A &amp\; 3A)\, 4A\, 5A\n• Sport Freestyle (Youth &
 amp\; Adult)\n• Trick Ladder (Beginner\, Advanced\, Open)\n• Doc Lucky
 ’s Duos\n• Beginner’s Luck Trick Contest\n• Plus\, Kendama Trick L
 adder &amp\; Freestyle Divisions\n\nThe contest takes place right on the m
 ain stage of the Chicago Toy &amp\; Game Fair (CHITAG)—North America’s
  largest public toy &amp\; game fair. Between your performance(s)\, explor
 e interactive exhibits\, meet leading toy and game brands\, and test out t
 he newest products before anyone else.\n\nSaturday Highlights: Yo-Yo and 
 Kendama Trick Ladder Contests\, Kendama Freestyle\, Workshops and a Pro Sh
 owcase.\n\nSunday Highlights: Yo-Yo Freestyle Divisions (1A\, Dual Hand\,
  4A\, 5A\, Sport Freestyle) and Doc Lucky’s Duos.\n\nRegistration &amp\;
  full schedule available at https://www.skilltoystates.com/info-illinois-y
 oyo\n\n
ATTACH;FMTTYPE=image/jpeg:https://yoyocontest.com/wp-content/uploads/2025/
 10/IL-State-Yo-Yo-Contests-Promo-Graphic.jpg
CATEGORIES:State Contests
LOCATION:Donald E. Stephens Convention Center\, 5555 N River Rd\, Rosemont\
 , IL\, 60018\, United States
GEO:41.979457;-87.861789
X-APPLE-STRUCTURED-LOCATION;VALUE=URI;X-ADDRESS=5555 N River Rd\, Rosemont\
 , IL\, 60018\, United States;X-APPLE-RADIUS=100;X-TITLE=Donald E. Stephens
  Convention Center:geo:41.979457,-87.861789
END:VEVENT
BEGIN:VTIMEZONE
TZID:America/New_York
X-LIC-LOCATION:America/New_York
BEGIN:STANDARD
DTSTART:20251102T010000
TZOFFSETFROM:-0400
TZOFFSETTO:-0500
TZNAME:EST
END:STANDARD
END:VTIMEZONE
END:VCALENDAR