BEGIN:VCALENDAR
VERSION:2.0
PRODID:-//wp-events-plugin.com//6.6.4.4//EN
TZID:America/Los_Angeles
X-WR-TIMEZONE:America/Los_Angeles
BEGIN:VEVENT
UID:0-124@yoyocontest.com
DTSTART;TZID=America/New_York:20251206T100000
DTEND;TZID=America/New_York:20251206T170000
DTSTAMP:20251007T005154Z
URL:https://yoyocontest.com/events/2025-florida-state-yoyo-contest/
SUMMARY:2025 Florida State YoYo Contest
DESCRIPTION:\n\n\n\n\n\n\n\n\n\n\nDECEMBER 6\, 2025 // ORLANDO\, FLORIDA\n\
 n\n\n\n\n\n\n\nThe Florida State Yo-Yo Contest brings players from across 
 the state (and beyond) together in an indoor amusement park for a day of c
 ompetition\, community and fun. Whether you’re a seasoned competitor or 
 stepping on stage for the very first time\, there’s a division for you.\
 n\nDivisions include:\n• 1A\, Dual Hand (2A &amp\; 3A)\, 4A\, 5A\n• Sp
 ort Freestyle (Youth &amp\; Adult)\n• Trick Ladder (Beginner\, Advanced\
 , Open)\n• Doc Lucky’s Duos\n• Beginner’s Luck Trick Contest\n• 
 Plus\, Kendama Trick Ladder &amp\; an "Expression Session" Performance Div
 ision\n\nThe contest takes place right outside The Pinball Palace attracti
 on near Cinemark. With more than 800\,000 sq. ft. of attractions\, Dezerla
 nd offers one of the largest Auto Museums in the world\, valued at over $2
 00 million\, go karting\, trampoline park\, laser tag\, virtual reality\, 
 arcade\, axe throwing\, mini-golf\, bowling and more. There is no admissio
 n fee for those looking to hang out\, watch and cheer on their favorite yo
 -yo players.\n\nRegistration &amp\; full schedule available at floridayoy
 o.com.\n\n
ATTACH;FMTTYPE=image/jpeg:https://yoyocontest.com/wp-content/uploads/2025/
 10/FL-Yo-Yo-Orange-Surfer-with-Handle.png
CATEGORIES:State Contests
LOCATION:Dezerland Park\, 5250 International Drive\, Orlando\, Florida\, 32
 819\, United States
GEO:28.468624;-81.448625
X-APPLE-STRUCTURED-LOCATION;VALUE=URI;X-ADDRESS=5250 International Drive\, 
 Orlando\, Florida\, 32819\, United States;X-APPLE-RADIUS=100;X-TITLE=Dezer
 land Park:geo:28.468624,-81.448625
END:VEVENT
BEGIN:VTIMEZONE
TZID:America/New_York
X-LIC-LOCATION:America/New_York
BEGIN:STANDARD
DTSTART:20251102T010000
TZOFFSETFROM:-0400
TZOFFSETTO:-0500
TZNAME:EST
END:STANDARD
END:VTIMEZONE
END:VCALENDAR