BEGIN:VCALENDAR
VERSION:2.0
PRODID:-//wp-events-plugin.com//6.6.4.4//EN
TZID:America/Los_Angeles
X-WR-TIMEZONE:America/Los_Angeles
BEGIN:VEVENT
UID:0-123@yoyocontest.com
DTSTART:20251130T170000Z
DTEND:20251130T230000Z
DTSTAMP:20250825T175201Z
URL:https://yoyocontest.com/events/2025-colorado-state-yo-yo-contest/
SUMMARY:2025 Colorado State Yo-Yo Contest
DESCRIPTION:Colorado State YoYo Contest is back! Come out to the People's B
 uilding in Aurora Colorado on Sunday November 30th.\n\nYou will also be ab
 le to visit the multiple vendor tables for some awesome merch!\nFacebook E
 vent Page\nEVENT WEBSITE\n\n\nhttps://yoyocontest.com/minnesota/
ATTACH;FMTTYPE=image/jpeg:https://yoyocontest.com/wp-content/uploads/2024/
 09/COLORADO-STATE_20240818_205417_0000.png
CATEGORIES:State Contests
LOCATION:People's Building\, 9995 E Colfax Ave\, Aurora\, CO\, 80010\, Unit
 ed States
GEO:39.740422;-104.872039
X-APPLE-STRUCTURED-LOCATION;VALUE=URI;X-ADDRESS=9995 E Colfax Ave\, Aurora\
 , CO\, 80010\, United States;X-APPLE-RADIUS=100;X-TITLE=People's Building:
 geo:39.740422,-104.872039
END:VEVENT
END:VCALENDAR