BEGIN:VCALENDAR
VERSION:2.0
PRODID:-//wp-events-plugin.com//6.6.4.4//EN
TZID:America/Los_Angeles
X-WR-TIMEZONE:America/Los_Angeles
BEGIN:VEVENT
UID:0-108@yoyocontest.com
DTSTART;TZID=America/Los_Angeles:20250412T100000
DTEND;TZID=America/Los_Angeles:20250412T170000
DTSTAMP:20250128T194934Z
URL:https://yoyocontest.com/events/2025-california-state-yo-yo-contest/
SUMMARY:2025 California State Yo-Yo Contest
DESCRIPTION:The 2025 California State Yo-Yo Contest will be held April 12th
 \, 2025 at the City Plaza in Chico\, CA.\n\nFor more information: https://
 yoyocontest.com/california/
ATTACH;FMTTYPE=image/jpeg:https://yoyocontest.com/wp-content/uploads/2019/
 02/CalState-2019-Circle.png
CATEGORIES:State Contests
LOCATION:Chico City Plaza\, 132 W 4th St\, Chico\, CA\, 95928\, United Stat
 es
GEO:39.72832;-121.839003
X-APPLE-STRUCTURED-LOCATION;VALUE=URI;X-ADDRESS=132 W 4th St\, Chico\, CA\,
  95928\, United States;X-APPLE-RADIUS=100;X-TITLE=Chico City Plaza:geo:39.
 72832,-121.839003
END:VEVENT
BEGIN:VTIMEZONE
TZID:America/Los_Angeles
X-LIC-LOCATION:America/Los_Angeles
BEGIN:DAYLIGHT
DTSTART:20250309T030000
TZOFFSETFROM:-0800
TZOFFSETTO:-0700
TZNAME:PDT
END:DAYLIGHT
END:VTIMEZONE
END:VCALENDAR