BEGIN:VCALENDAR
VERSION:2.0
PRODID:-//wp-events-plugin.com//6.6.4.4//EN
TZID:America/Los_Angeles
X-WR-TIMEZONE:America/Los_Angeles
BEGIN:VEVENT
UID:0-101@yoyocontest.com
DTSTART;TZID=America/New_York;VALUE=DATE:20240731
DTEND;TZID=America/New_York;VALUE=DATE:20240804
DTSTAMP:20240326T154746Z
URL:https://yoyocontest.com/events/2024-world-yo-yo-contest/
SUMMARY:2024 World Yo-Yo Contest
DESCRIPTION:\nhttps://wyyc2024.com/
ATTACH;FMTTYPE=image/jpeg:https://yoyocontest.com/wp-content/uploads/2024/
 03/World-YoYo-Contest.jpg
CATEGORIES:International
LOCATION:Renaissance Cleveland Hotel 24 Public Square Cleveland\,  24 Publi
 c Square\, Cleveland\, Ohio\, 44113\, United States
GEO:41.498612;-81.694471
X-APPLE-STRUCTURED-LOCATION;VALUE=URI;X-ADDRESS= 24 Public Square\, Clevela
 nd\, Ohio\, 44113\, United States;X-APPLE-RADIUS=100;X-TITLE=Renaissance C
 leveland Hotel 24 Public Square Cleveland:geo:41.498612,-81.694471
END:VEVENT
BEGIN:VTIMEZONE
TZID:America/New_York
X-LIC-LOCATION:America/New_York
BEGIN:DAYLIGHT
DTSTART:20240310T030000
TZOFFSETFROM:-0500
TZOFFSETTO:-0400
TZNAME:EDT
END:DAYLIGHT
END:VTIMEZONE
END:VCALENDAR