BEGIN:VCALENDAR
VERSION:2.0
PRODID:-//wp-events-plugin.com//6.6.4.4//EN
TZID:America/Los_Angeles
X-WR-TIMEZONE:America/Los_Angeles
BEGIN:VEVENT
UID:0-91@yoyocontest.com
DTSTART;TZID=America/Kentucky/Louisville:20240427T100000
DTEND;TZID=America/Kentucky/Louisville:20240427T160000
DTSTAMP:20240227T213217Z
URL:https://yoyocontest.com/events/2024-uyyc-united-yoyo-contest/
SUMMARY:2024 UYYC United Yoyo Contest
DESCRIPTION:\n\n\n\n\n\n\n\n\n
ATTACH;FMTTYPE=image/jpeg:https://yoyocontest.com/wp-content/uploads/2023/
 05/img_6581.jpg
CATEGORIES:State Contests
LOCATION:Pierson Auditorium at Atterbury Student Success Center\, 5000 Rock
 hill Road\, Kansas City\, MO\, 64110\, United States
GEO:39.036236;-94.579371
X-APPLE-STRUCTURED-LOCATION;VALUE=URI;X-ADDRESS=5000 Rockhill Road\, Kansas
  City\, MO\, 64110\, United States;X-APPLE-RADIUS=100;X-TITLE=Pierson Audi
 torium at Atterbury Student Success Center:geo:39.036236,-94.579371
END:VEVENT
BEGIN:VTIMEZONE
TZID:America/Kentucky/Louisville
X-LIC-LOCATION:America/Kentucky/Louisville
BEGIN:DAYLIGHT
DTSTART:20240310T030000
TZOFFSETFROM:-0500
TZOFFSETTO:-0400
TZNAME:EDT
END:DAYLIGHT
END:VTIMEZONE
END:VCALENDAR