BEGIN:VCALENDAR
VERSION:2.0
PRODID:-//wp-events-plugin.com//6.6.4.4//EN
TZID:America/Los_Angeles
X-WR-TIMEZONE:America/Los_Angeles
BEGIN:VEVENT
UID:0-92@yoyocontest.com
DTSTART;TZID=America/Los_Angeles:20240127T100000
DTEND;TZID=America/Los_Angeles:20240127T170000
DTSTAMP:20240217T190613Z
URL:https://yoyocontest.com/events/2024-san-diego-yo-yo-classic/
SUMMARY:2024 San Diego Yo-Yo Classic
DESCRIPTION:
ATTACH;FMTTYPE=image/jpeg:https://yoyocontest.com/wp-content/uploads/2024/
 01/SdClassicFlyer.jpg
CATEGORIES:Other Contests
LOCATION:Queen Bee's Arts and Cultural Center\, 3925 Ohio St.\, North Park\
 , CA\, 92104\, United States
GEO:32.74898;-117.128636
X-APPLE-STRUCTURED-LOCATION;VALUE=URI;X-ADDRESS=3925 Ohio St.\, North Park\
 , CA\, 92104\, United States;X-APPLE-RADIUS=100;X-TITLE=Queen Bee's Arts a
 nd Cultural Center:geo:32.74898,-117.128636
END:VEVENT
BEGIN:VTIMEZONE
TZID:America/Los_Angeles
X-LIC-LOCATION:America/Los_Angeles
BEGIN:STANDARD
DTSTART:20231105T010000
TZOFFSETFROM:-0700
TZOFFSETTO:-0800
TZNAME:PST
END:STANDARD
END:VTIMEZONE
END:VCALENDAR