BEGIN:VCALENDAR
VERSION:2.0
PRODID:-//wp-events-plugin.com//6.6.4.4//EN
TZID:America/Los_Angeles
X-WR-TIMEZONE:America/Los_Angeles
BEGIN:VEVENT
UID:0-98@yoyocontest.com
DTSTART;TZID=America/Denver:20240525T100000
DTEND;TZID=America/Denver:20240525T170000
DTSTAMP:20240326T033727Z
URL:https://yoyocontest.com/events/2024-rocky-mountain-regional-yo-yo-cham
 pionship/
SUMMARY:2024 Rocky Mountain Regional Yo-Yo Championship
DESCRIPTION:
ATTACH;FMTTYPE=image/jpeg:https://yoyocontest.com/wp-content/uploads/2024/
 03/Rocky-Mountain-Regional-Logo-Yo-Yo-Final.png
CATEGORIES:Regionals
LOCATION:Holiday Inn Denver East\, 3333 Quebec Street\, Denver\, CO\, 80207
 \, United States
GEO:39.76438;-104.904098
X-APPLE-STRUCTURED-LOCATION;VALUE=URI;X-ADDRESS=3333 Quebec Street\, Denver
 \, CO\, 80207\, United States;X-APPLE-RADIUS=100;X-TITLE=Holiday Inn Denve
 r East:geo:39.76438,-104.904098
END:VEVENT
BEGIN:VTIMEZONE
TZID:America/Denver
X-LIC-LOCATION:America/Denver
BEGIN:DAYLIGHT
DTSTART:20240310T030000
TZOFFSETFROM:-0700
TZOFFSETTO:-0600
TZNAME:MDT
END:DAYLIGHT
END:VTIMEZONE
END:VCALENDAR