BEGIN:VCALENDAR
VERSION:2.0
PRODID:-//wp-events-plugin.com//6.6.4.4//EN
TZID:America/Los_Angeles
X-WR-TIMEZONE:America/Los_Angeles
BEGIN:VEVENT
UID:0-90@yoyocontest.com
DTSTART;TZID=America/Los_Angeles:20240224T100000
DTEND;TZID=America/Los_Angeles:20240224T163000
DTSTAMP:20240217T190613Z
URL:https://yoyocontest.com/events/2024-pacific-northwest-regionals/
SUMMARY:2024 Pacific Northwest Regionals
DESCRIPTION:\n\nThe Pacific Northwest Regional Yo-Yo Championship (PNWR) is
  the premier yo-yo event in the Pacific Northwest.\n\nHeld at the Seattle 
 Center since 2005\, PNWR attracts top talent from the region and around th
 e country.
ATTACH;FMTTYPE=image/jpeg:https://yoyocontest.com/wp-content/uploads/2024/
 01/2024-PNWR-Logo-NYYL.png
CATEGORIES:Regionals
LOCATION:Seattle Center Armory\, 305 Harrison Street\, Seattle\, WA\, 98109
 \, United States
GEO:47.622806;-122.353007
X-APPLE-STRUCTURED-LOCATION;VALUE=URI;X-ADDRESS=305 Harrison Street\, Seatt
 le\, WA\, 98109\, United States;X-APPLE-RADIUS=100;X-TITLE=Seattle Center 
 Armory:geo:47.622806,-122.353007
END:VEVENT
BEGIN:VTIMEZONE
TZID:America/Los_Angeles
X-LIC-LOCATION:America/Los_Angeles
BEGIN:STANDARD
DTSTART:20231105T010000
TZOFFSETFROM:-0700
TZOFFSETTO:-0800
TZNAME:PST
END:STANDARD
END:VTIMEZONE
END:VCALENDAR