BEGIN:VCALENDAR
VERSION:2.0
PRODID:-//wp-events-plugin.com//6.6.4.4//EN
TZID:America/Los_Angeles
X-WR-TIMEZONE:America/Los_Angeles
BEGIN:VEVENT
UID:0-89@yoyocontest.com
DTSTART;TZID=America/New_York;VALUE=DATE:20240621
DTEND;TZID=America/New_York;VALUE=DATE:20240624
DTSTAMP:20240227T213217Z
URL:https://yoyocontest.com/events/2024-national-yo-yo-contest/
SUMMARY:2024 National Yo-Yo Contest
DESCRIPTION:\nEvent Website:https://nationalyoyocontest.com/\n\n\n\n&nbsp\;
 \n
ATTACH;FMTTYPE=image/jpeg:https://yoyocontest.com/wp-content/uploads/2024/
 01/2024-Nationals-Logo-Temp.png
CATEGORIES:Nationals
LOCATION:Sheraton Philadelphia Downtown\, 201 North 17th Street\, Philadelp
 hia\, PA\, 19103\, United States
GEO:39.957099;-75.167033
X-APPLE-STRUCTURED-LOCATION;VALUE=URI;X-ADDRESS=201 North 17th Street\, Phi
 ladelphia\, PA\, 19103\, United States;X-APPLE-RADIUS=100;X-TITLE=Sheraton
  Philadelphia Downtown:geo:39.957099,-75.167033
END:VEVENT
BEGIN:VTIMEZONE
TZID:America/New_York
X-LIC-LOCATION:America/New_York
BEGIN:DAYLIGHT
DTSTART:20240310T030000
TZOFFSETFROM:-0500
TZOFFSETTO:-0400
TZNAME:EDT
END:DAYLIGHT
END:VTIMEZONE
END:VCALENDAR