BEGIN:VCALENDAR
VERSION:2.0
PRODID:-//wp-events-plugin.com//6.6.4.4//EN
TZID:America/Los_Angeles
X-WR-TIMEZONE:America/Los_Angeles
BEGIN:VEVENT
UID:0-113@yoyocontest.com
DTSTART;TZID=America/Chicago:20250614T100000
DTEND;TZID=America/Chicago:20250614T160000
DTSTAMP:20250422T200937Z
URL:https://yoyocontest.com/events/2024-midwest-regionals-2/
SUMMARY:2025 Midwest Regionals
DESCRIPTION:Midwest Regional Yo-Yo Championship\n🗓 June 14\, 2025\n📍 
 Mall of America\nGet ready for an epic showdown as the top yo-yo players i
 n the Midwest take center stage at the Mall of America! This high-energy c
 ompetition is set against an incredible backdrop\, with four levels of spe
 ctators circling the action and massive media screens amplifying every mov
 e. Don’t miss your chance to witness the best throw down in one of the m
 ost iconic venues in the country!\n\nEvent Website Here\nRegister Here
ATTACH;FMTTYPE=image/jpeg:https://yoyocontest.com/wp-content/uploads/2024/
 01/2024-01-21-MWR-Logo.png
CATEGORIES:Regionals
LOCATION:Mall of America\, 60 E Broadway\, Bloomington\, MN\, 55425\, Unite
 d States
GEO:44.8548038;-93.24169610000001
X-APPLE-STRUCTURED-LOCATION;VALUE=URI;X-ADDRESS=60 E Broadway\, Bloomington
 \, MN\, 55425\, United States;X-APPLE-RADIUS=100;X-TITLE=Mall of America:g
 eo:44.8548038,-93.24169610000001
END:VEVENT
BEGIN:VTIMEZONE
TZID:America/Chicago
X-LIC-LOCATION:America/Chicago
BEGIN:DAYLIGHT
DTSTART:20250309T030000
TZOFFSETFROM:-0600
TZOFFSETTO:-0500
TZNAME:CDT
END:DAYLIGHT
END:VTIMEZONE
END:VCALENDAR