BEGIN:VCALENDAR
VERSION:2.0
PRODID:-//wp-events-plugin.com//6.6.4.4//EN
TZID:America/Los_Angeles
X-WR-TIMEZONE:America/Los_Angeles
BEGIN:VEVENT
UID:0-103@yoyocontest.com
DTSTART;TZID=America/Los_Angeles:20241116T090000
DTEND;TZID=America/Los_Angeles:20241116T170000
DTSTAMP:20240930T211154Z
URL:https://yoyocontest.com/events/2024-michigan-state-yoyo-contest/
SUMMARY:2024 Michigan State YoYo Contest
DESCRIPTION:\nNovember 16\, 2024 – Check in 9am – Contest from 10am –
  5pm\n\n7400 Miller Rd.\, Swartz Creek MI 48473\nCONTEST WEBSITE\n\n&nbsp\
 ;
ATTACH;FMTTYPE=image/jpeg:https://yoyocontest.com/wp-content/uploads/2024/
 09/2024-Michigan-State-Logo.png
END:VEVENT
BEGIN:VTIMEZONE
TZID:America/Los_Angeles
X-LIC-LOCATION:America/Los_Angeles
BEGIN:STANDARD
DTSTART:20241103T010000
TZOFFSETFROM:-0700
TZOFFSETTO:-0800
TZNAME:PST
END:STANDARD
END:VTIMEZONE
END:VCALENDAR