BEGIN:VCALENDAR
VERSION:2.0
PRODID:-//wp-events-plugin.com//6.6.4.4//EN
TZID:America/Los_Angeles
X-WR-TIMEZONE:America/Los_Angeles
BEGIN:VEVENT
UID:0-105@yoyocontest.com
DTSTART;TZID=America/New_York:20241110T100000
DTEND;TZID=America/New_York:20241110T160000
DTSTAMP:20241012T114918Z
URL:https://yoyocontest.com/events/2024-illinois-yoyo-contest/
SUMMARY:2024 Illinois State Yo-Yo Contest
DESCRIPTION:OfficialContest Website:\nhttps://www.yoyostates.com/info-illin
 ois\n\nThe Illinois State Yo-Yo Contest is coming back to the Chicago Toy 
 &amp\; Game Fair (CHITAG\; Rosemont\, IL) on Sunday\, Nov. 10! Show off yo
 ur latest tricks and build-up confidence in competitions. Whether you’re
  a yo-yo contest pro or a first-time competitor\, the Illinois State Yo-Yo
  Contest has a division for all levels\, including 1A Freestyle\, X Freest
 yle\, Sport Freestyle\, Doc Lucky’s Duos and the Beginner’s Luck Trick
  Contest\, a new take on the traditional Sport Ladder format. Enjoy all th
 e yo-yo action\, alongside a yo-yo collectors showcase\, yo-yo traders tab
 le and yo-yo marketplace.\n\nThe contest is taking place on the main stage
  at the Chicago Toy &amp\; Game Fair (CHITAG). CHITAG is on Nov. 9-10 at t
 he Donald E. Stephen’s convention center\, located right outside of O'Ha
 re. CHITAG is North America's largest toy &amp\; game fair open to the pub
 lic with experiential and immersive events\, interactive exhibits and acti
 vities for all ages. While the contest is on Sunday of CHITAG\, join us on
  Saturday\, Nov. 9 for workshops and the Windy City Wind-Up pro contest.\n
 \nKeep tabs on the website and follow the contest on Instagram at @Illinoi
 sYoYo to stay looped in on expanded happenings on Saturday\, Nov. 9\, info
 . on judges and more!\n\nPresented by Doc Lucky’s Yo-Yo Talk\, the Doc L
 ucky's Duos division consists of teams of two players who perform a two (2
 ) minute routine together in a fun\, outside-the-box one-round final. View
  rules here: https://www.yoyostates.com/duos-rules\n\nThe Beginner’s Luc
 k Trick Contest is a fresh take on traditional Sport Ladder\, and is open 
 to anyone outside of 1A and X Freestyle division competitors. View rules h
 ere: https://www.yoyostates.com/beginner-rules\n\n
ATTACH;FMTTYPE=image/jpeg:https://yoyocontest.com/wp-content/uploads/2024/
 10/Yo-Yo-Contests-2024-Website-Graphics-IL-State-Contest-Temporary-Logo.pn
 g
CATEGORIES:State Contests
LOCATION:Donald E. Stephens Convention Center\, 5555 N River Rd\, Rosemont\
 , IL\, 60018\, United States
GEO:41.979457;-87.861789
X-APPLE-STRUCTURED-LOCATION;VALUE=URI;X-ADDRESS=5555 N River Rd\, Rosemont\
 , IL\, 60018\, United States;X-APPLE-RADIUS=100;X-TITLE=Donald E. Stephens
  Convention Center:geo:41.979457,-87.861789
END:VEVENT
BEGIN:VTIMEZONE
TZID:America/New_York
X-LIC-LOCATION:America/New_York
BEGIN:STANDARD
DTSTART:20241103T010000
TZOFFSETFROM:-0400
TZOFFSETTO:-0500
TZNAME:EST
END:STANDARD
END:VTIMEZONE
END:VCALENDAR