BEGIN:VCALENDAR
VERSION:2.0
PRODID:-//wp-events-plugin.com//6.6.4.4//EN
TZID:America/Los_Angeles
X-WR-TIMEZONE:America/Los_Angeles
BEGIN:VEVENT
UID:0-104@yoyocontest.com
DTSTART;TZID=America/New_York:20241207T110000
DTEND;TZID=America/New_York:20241207T163000
DTSTAMP:20241010T185119Z
URL:https://yoyocontest.com/events/2024-florida-state-yoyo-contest/
SUMMARY:2024 Florida State YoYo Contest
DESCRIPTION:\n\n\n\n\n\n\n\n\n\n\nDECEMBER 7\, 2023 // ORLANDO\, FLORIDA\n\
 n\n\n\n\n\n\n\n\nThe Florida State Yo-Yo Contest is coming back to Dezerla
 nd Park in Orlando\, FL on Saturday\, Dec. 7! Show off your latest tricks 
 and build-up confidence in competitions. Whether you’re a yo-yo contest 
 pro or a first-time competitor\, the Illinois State Yo-Yo Contest has a di
 vision for all levels\, including 1A Freestyle\, X Freestyle\, Sport Frees
 tyle\, Doc Lucky’s Duos and the Beginner’s Luck Trick Contest\, a new 
 take on the traditional Sport Ladder format. Enjoy all the yo-yo action\, 
 alongside a yo-yo collectors showcase\, yo-yo traders table and yo-yo mark
 etplace.\nKeep tabs on the website and follow the contest on Instagram at 
 @FloridaYoYo to stay looped in on mini contests\, info. on judges and more
 !\n\nPresented by Doc Lucky’s Yo-Yo Talk\, the Doc Lucky's Duos division
  consists of teams of two players who perform a two (2) minute routine tog
 ether in a fun\, outside-the-box one-round final. View rules here: https:/
 /www.yoyostates.com/duos-rules\n\nThe Beginner’s Luck Trick Contest is a
  fresh take on traditional Sport Ladder\, and is open to anyone outside of
  1A and X Freestyle division competitors. View rules here: https://www.yoy
 ostates.com/beginner-rules\n\n
ATTACH;FMTTYPE=image/jpeg:https://yoyocontest.com/wp-content/uploads/2024/
 10/FL-State-Yo-Yo-Logo.png
CATEGORIES:State Contests
LOCATION:Dezerland Park\, 5250 International Drive\, Orlando\, Florida\, 32
 819\, United States
GEO:28.468624;-81.448625
X-APPLE-STRUCTURED-LOCATION;VALUE=URI;X-ADDRESS=5250 International Drive\, 
 Orlando\, Florida\, 32819\, United States;X-APPLE-RADIUS=100;X-TITLE=Dezer
 land Park:geo:28.468624,-81.448625
END:VEVENT
BEGIN:VTIMEZONE
TZID:America/New_York
X-LIC-LOCATION:America/New_York
BEGIN:STANDARD
DTSTART:20241103T010000
TZOFFSETFROM:-0400
TZOFFSETTO:-0500
TZNAME:EST
END:STANDARD
END:VTIMEZONE
END:VCALENDAR