BEGIN:VCALENDAR
VERSION:2.0
PRODID:-//wp-events-plugin.com//6.6.4.4//EN
TZID:America/Los_Angeles
X-WR-TIMEZONE:America/Los_Angeles
BEGIN:VEVENT
UID:0-102@yoyocontest.com
DTSTART:20241130T180000Z
DTEND:20241130T220000Z
DTSTAMP:20241011T172741Z
URL:https://yoyocontest.com/events/2024-colorado-state-yo-yo-contest/
SUMMARY:2024 Colorado State Yo-Yo Contest
DESCRIPTION:Colorado State YoYo Contest is back! The last time we saw you w
 as in 2018 and we are happy to see you again!\nCome out to the People's Bu
 ilding in Aurora Colorado on Saturday November 30th to participate in free
 styles\, mini competitions\, and an all player battle!\nYou will also be a
 ble to visit the multiple vendor tables for some awesome merch!\nFacebook 
 Event Page\nEVENT WEBSITE\n\n\nhttps://yoyocontest.com/minnesota/
ATTACH;FMTTYPE=image/jpeg:https://yoyocontest.com/wp-content/uploads/2024/
 09/COLORADO-STATE_20240818_205417_0000.png
CATEGORIES:State Contests
LOCATION:People's Building\, 9995 E Colfax Ave\, Aurora\, CO\, 80010\, Unit
 ed States
GEO:39.740422;-104.872039
X-APPLE-STRUCTURED-LOCATION;VALUE=URI;X-ADDRESS=9995 E Colfax Ave\, Aurora\
 , CO\, 80010\, United States;X-APPLE-RADIUS=100;X-TITLE=People's Building:
 geo:39.740422,-104.872039
END:VEVENT
END:VCALENDAR