BEGIN:VCALENDAR
VERSION:2.0
PRODID:-//wp-events-plugin.com//6.6.4.4//EN
TZID:America/Los_Angeles
X-WR-TIMEZONE:America/Los_Angeles
BEGIN:VEVENT
UID:0-97@yoyocontest.com
DTSTART;TZID=America/Phoenix:20240406T100000
DTEND;TZID=America/Phoenix:20240406T170000
DTSTAMP:20240227T213216Z
URL:https://yoyocontest.com/events/2024-arizona-state-yo-yo-contest/
SUMMARY:2024 Arizona State Yo-Yo Contest
DESCRIPTION:Founded in 2013 the Arizona State contest is free to enter and 
 will host both Championship and Sport divisions in 1A and X divisions.\n\n
ATTACH;FMTTYPE=image/jpeg:https://yoyocontest.com/wp-content/uploads/2024/
 02/IMG_3305.jpg
LOCATION:Dobson Ranch Recreation Center\, 2719 South Reyes\, MESA\, Arizona
 \, 85202\, United States
GEO:33.366112;-111.861185
X-APPLE-STRUCTURED-LOCATION;VALUE=URI;X-ADDRESS=2719 South Reyes\, MESA\, A
 rizona\, 85202\, United States;X-APPLE-RADIUS=100;X-TITLE=Dobson Ranch Rec
 reation Center:geo:33.366112,-111.861185
END:VEVENT
BEGIN:VTIMEZONE
TZID:America/Phoenix
X-LIC-LOCATION:America/Phoenix
BEGIN:STANDARD
DTSTART:20230407T100000
TZOFFSETFROM:-0700
TZOFFSETTO:-0700
TZNAME:MST
END:STANDARD
END:VTIMEZONE
END:VCALENDAR