BEGIN:VCALENDAR
VERSION:2.0
PRODID:-//wp-events-plugin.com//6.6.4.4//EN
TZID:America/Los_Angeles
X-WR-TIMEZONE:America/Los_Angeles
BEGIN:VEVENT
UID:0-79@yoyocontest.com
DTSTART;TZID=America/New_York:20230311T100000
DTEND;TZID=America/New_York:20230311T160000
DTSTAMP:20240217T190614Z
URL:https://yoyocontest.com/events/2023-virginia-state-yoyo-contest/
SUMMARY:2023 Virginia State YoYo Contest
DESCRIPTION:\nEvent Website: https://scalescollective.com/\nThe Virginia St
 ate Yo-Yo Contest is the largest yo-yo contest in the Mid-Atlantic region.
  For over a decade VA States has been a popular event for both newcomers 
 to the hobby and seasoned contest veterans\, drawing competitors from up a
 nd down the East Coast. Come swap tricks\, try out new yo-yos\, and pick u
 p some of the latest yo-yos and accessories!\n\n&nbsp\;\n\n
ATTACH;FMTTYPE=image/jpeg:https://yoyocontest.com/wp-content/uploads/2023/
 02/Screenshot-of-Preview-2-15-23-1-50-47-PM-scaled.jpg
CATEGORIES:State Contests
LOCATION:Science Museum of Virginia\, 2500 W Broad Street\, Richmond\, VA\,
  23220\, United States
GEO:37.561647;-77.465974
X-APPLE-STRUCTURED-LOCATION;VALUE=URI;X-ADDRESS=2500 W Broad Street\, Richm
 ond\, VA\, 23220\, United States;X-APPLE-RADIUS=100;X-TITLE=Science Museum
  of Virginia:geo:37.561647,-77.465974
END:VEVENT
BEGIN:VTIMEZONE
TZID:America/New_York
X-LIC-LOCATION:America/New_York
BEGIN:STANDARD
DTSTART:20221106T010000
TZOFFSETFROM:-0400
TZOFFSETTO:-0500
TZNAME:EST
END:STANDARD
END:VTIMEZONE
END:VCALENDAR