BEGIN:VCALENDAR
VERSION:2.0
PRODID:-//wp-events-plugin.com//6.6.4.4//EN
TZID:America/Los_Angeles
X-WR-TIMEZONE:America/Los_Angeles
BEGIN:VEVENT
UID:0-83@yoyocontest.com
DTSTART;TZID=America/Kentucky/Louisville:20230610T100000
DTEND;TZID=America/Kentucky/Louisville:20230610T160000
DTSTAMP:20240217T190614Z
URL:https://yoyocontest.com/events/2023-united-yoyo-kendama-contest/
SUMMARY:2023 UYYC United Yoyo Contest
DESCRIPTION:\n\n\n\n\nEvent Website:\nhttps://yoyocontest.com/unitedyoyo/\n
 \n\n\n
ATTACH;FMTTYPE=image/jpeg:https://yoyocontest.com/wp-content/uploads/2023/
 05/img_6581.jpg
CATEGORIES:State Contests
LOCATION:Missouri History Museum\, 5700 Lindell Blvd\,  St Louis\, MO\, 631
 12\, United States
GEO:38.645248;-90.285738
X-APPLE-STRUCTURED-LOCATION;VALUE=URI;X-ADDRESS=5700 Lindell Blvd\,  St Lou
 is\, MO\, 63112\, United States;X-APPLE-RADIUS=100;X-TITLE=Missouri Histor
 y Museum:geo:38.645248,-90.285738
END:VEVENT
BEGIN:VTIMEZONE
TZID:America/Kentucky/Louisville
X-LIC-LOCATION:America/Kentucky/Louisville
BEGIN:DAYLIGHT
DTSTART:20230312T030000
TZOFFSETFROM:-0500
TZOFFSETTO:-0400
TZNAME:EDT
END:DAYLIGHT
END:VTIMEZONE
END:VCALENDAR