BEGIN:VCALENDAR
VERSION:2.0
PRODID:-//wp-events-plugin.com//6.6.4.4//EN
TZID:America/Los_Angeles
X-WR-TIMEZONE:America/Los_Angeles
BEGIN:VEVENT
UID:0-85@yoyocontest.com
DTSTART;TZID=America/New_York:20231118T103000
DTEND;TZID=America/New_York:20231118T230000
DTSTAMP:20240217T190613Z
URL:https://yoyocontest.com/events/2023-new-york-state-yoyo-contest/
SUMMARY:2023 New York State YoYo Contest
DESCRIPTION:\n\n\n\n\n\n
ATTACH;FMTTYPE=image/jpeg:https://yoyocontest.com/wp-content/uploads/2023/
 11/Screenshot-of-Google-Chrome-11-18-23-11-52-19-AM.jpg
CATEGORIES:State Contests
END:VEVENT
BEGIN:VTIMEZONE
TZID:America/New_York
X-LIC-LOCATION:America/New_York
BEGIN:STANDARD
DTSTART:20231105T010000
TZOFFSETFROM:-0400
TZOFFSETTO:-0500
TZNAME:EST
END:STANDARD
END:VTIMEZONE
END:VCALENDAR