BEGIN:VCALENDAR
VERSION:2.0
PRODID:-//wp-events-plugin.com//6.6.4.4//EN
TZID:America/Los_Angeles
X-WR-TIMEZONE:America/Los_Angeles
BEGIN:VEVENT
UID:0-78@yoyocontest.com
DTSTART;TZID=America/Los_Angeles;VALUE=DATE:20230429
DTEND;TZID=America/Los_Angeles;VALUE=DATE:20230430
DTSTAMP:20240217T190614Z
URL:https://yoyocontest.com/events/2023-midwest-regionals/
SUMMARY:2023 Midwest Regionals
DESCRIPTION:Event Website:\nhttps://yoyocontest.com/mwr\nEach year the best
  players in the Midwest arrive at center stage in the Mall of America for 
 the Midwest Regional Yo-Yo Championship. There is no better stage to perfo
 rm on than the one at the MOA. Four levels of spectators wrap in a circula
 r formation above the stage\, and large media screens project the action b
 ehind the player!
ATTACH;FMTTYPE=image/jpeg:https://yoyocontest.com/wp-content/uploads/2023/
 02/cropped-MWRblack-1.png
CATEGORIES:Regionals
LOCATION:Mall of America\, 60 E Broadway\, Bloomington\, MN\, 55425\, Unite
 d States
GEO:44.8548038;-93.24169610000001
X-APPLE-STRUCTURED-LOCATION;VALUE=URI;X-ADDRESS=60 E Broadway\, Bloomington
 \, MN\, 55425\, United States;X-APPLE-RADIUS=100;X-TITLE=Mall of America:g
 eo:44.8548038,-93.24169610000001
END:VEVENT
BEGIN:VTIMEZONE
TZID:America/Los_Angeles
X-LIC-LOCATION:America/Los_Angeles
BEGIN:DAYLIGHT
DTSTART:20230312T030000
TZOFFSETFROM:-0800
TZOFFSETTO:-0700
TZNAME:PDT
END:DAYLIGHT
END:VTIMEZONE
END:VCALENDAR