BEGIN:VCALENDAR
VERSION:2.0
PRODID:-//wp-events-plugin.com//6.6.4.4//EN
TZID:America/Los_Angeles
X-WR-TIMEZONE:America/Los_Angeles
BEGIN:VEVENT
UID:0-84@yoyocontest.com
DTSTART;TZID=America/Los_Angeles:20231007T090000
DTEND;TZID=America/Los_Angeles:20231007T170000
DTSTAMP:20240217T190613Z
URL:https://yoyocontest.com/events/2023-michigan-state-yoyo-contest/
SUMMARY:2023 Michigan State YoYo Contest
DESCRIPTION:\n\nOctober 7\, 2023 – Check in 9am – Contest from 10am –
  5pm\n\n7400 Miller Rd.\, Swartz Creek MI 48473\nCONTEST WEBSITE\n\n&nbsp\
 ;
ATTACH;FMTTYPE=image/jpeg:https://yoyocontest.com/wp-content/uploads/2023/
 09/Michigan-State-YoYo-Contest-1.png
END:VEVENT
BEGIN:VTIMEZONE
TZID:America/Los_Angeles
X-LIC-LOCATION:America/Los_Angeles
BEGIN:DAYLIGHT
DTSTART:20230312T030000
TZOFFSETFROM:-0800
TZOFFSETTO:-0700
TZNAME:PDT
END:DAYLIGHT
END:VTIMEZONE
END:VCALENDAR