BEGIN:VCALENDAR
VERSION:2.0
PRODID:-//wp-events-plugin.com//6.6.4.4//EN
TZID:America/Los_Angeles
X-WR-TIMEZONE:America/Los_Angeles
BEGIN:VEVENT
UID:0-86@yoyocontest.com
DTSTART;TZID=America/New_York:20231202T110000
DTEND;TZID=America/New_York:20231202T160000
DTSTAMP:20240217T190613Z
URL:https://yoyocontest.com/events/2023-florida-state-yoyo-contest/
SUMMARY:2023 Florida State YoYo Contest
DESCRIPTION:\n\n\n\n\n\n\n\n\n\n\nDECEMBER 2\, 2023 // ORLANDO\, FLORIDA\n\
 n\n\n\n\n\n\n\n\nShow off your latest tricks\, build-up confidence in comp
 etitions and make some new friends. Whether you’re a yo-yo contest pro o
 r a first-time competitor\, the Florida State Yo-Yo Championship has a div
 ision for all levels and abilities:\n\n\n 	\n1A Freestyle\n\n 	\nX Freesty
 le\n\n 	\nSport Freestyle\n\n 	\nDoc Lucky’s Duos\n\n 	\nBeginner’s Lu
 ck Trick Contest\n\n\nEnjoy all the yo-yo action\, alongside a yo-yo colle
 ctors showcase\, a buy-sell-trade zone and yo-yo vendors.\n
ATTACH;FMTTYPE=image/jpeg:https://yoyocontest.com/wp-content/uploads/2023/
 11/Screenshot-of-Google-Chrome-11-18-23-12-15-26-PM.jpg
CATEGORIES:State Contests
END:VEVENT
BEGIN:VTIMEZONE
TZID:America/New_York
X-LIC-LOCATION:America/New_York
BEGIN:STANDARD
DTSTART:20231105T010000
TZOFFSETFROM:-0400
TZOFFSETTO:-0500
TZNAME:EST
END:STANDARD
END:VTIMEZONE
END:VCALENDAR