BEGIN:VCALENDAR
VERSION:2.0
PRODID:-//wp-events-plugin.com//6.6.4.4//EN
TZID:America/Los_Angeles
X-WR-TIMEZONE:America/Los_Angeles
BEGIN:VEVENT
UID:0-80@yoyocontest.com
DTSTART;TZID=America/Los_Angeles:20230401T130000
DTEND;TZID=America/Los_Angeles:20230401T170000
DTSTAMP:20240217T190614Z
URL:https://yoyocontest.com/events/2023-arizona-state-yoyo-contest/
SUMMARY:2023 Arizona State YoYo Contest
DESCRIPTION:Event Website:\nhttps://www.azyoyo.com/\nCompetitors will battl
 e for the title of Arizona State Champion. YoYo lessons provided by All Yo
 Yo to anyone interested in learning how to play. Raffle tickets will be av
 ailable for purchase. Prizes for raffle will be donated by the sponsors.
ATTACH;FMTTYPE=image/jpeg:https://yoyocontest.com/wp-content/uploads/2023/
 02/Screenshot-of-LaunchBar-2-19-23-10-12-57-PM.jpg
CATEGORIES:State Contests
LOCATION:Dobson Ranch Recreation Center\, 2719 South Reyes\, MESA\, Arizona
 \, 85202\, United States
GEO:33.366112;-111.861185
X-APPLE-STRUCTURED-LOCATION;VALUE=URI;X-ADDRESS=2719 South Reyes\, MESA\, A
 rizona\, 85202\, United States;X-APPLE-RADIUS=100;X-TITLE=Dobson Ranch Rec
 reation Center:geo:33.366112,-111.861185
END:VEVENT
BEGIN:VTIMEZONE
TZID:America/Los_Angeles
X-LIC-LOCATION:America/Los_Angeles
BEGIN:DAYLIGHT
DTSTART:20230312T030000
TZOFFSETFROM:-0800
TZOFFSETTO:-0700
TZNAME:PDT
END:DAYLIGHT
END:VTIMEZONE
END:VCALENDAR