BEGIN:VCALENDAR
VERSION:2.0
PRODID:-//wp-events-plugin.com//6.6.4.4//EN
TZID:America/Los_Angeles
X-WR-TIMEZONE:America/Los_Angeles
BEGIN:VEVENT
UID:1-30@yoyocontest.com
DTSTART;TZID=America/Los_Angeles;VALUE=DATE:20170506
DTEND;TZID=America/Los_Angeles;VALUE=DATE:20170507
DTSTAMP:20170427T155025Z
URL:https://yoyocontest.com/events/2017-utah-state-yo-yo-contest/
SUMMARY:2017 Utah State Yo-Yo Contest
DESCRIPTION:More details on the main website for the event: https://yoyoco
 ntest.com/utah/\n\nRegistration is here: https://yoyocontest.com/contest-r
 egistrations/2017-utah-state-registration/\n\nMusic upload is here: https:
 //yoyocontest.com/music-upload/2017-utah-state-music-upload/
CATEGORIES:State Contests
LOCATION:Columbus Library Auditorium\, 2530 South 500 East\, Salt Lake City
 \, UT\, 84106\, United States
GEO:40.7154705;-111.87808580000001
X-APPLE-STRUCTURED-LOCATION;VALUE=URI;X-ADDRESS=2530 South 500 East\, Salt 
 Lake City\, UT\, 84106\, United States;X-APPLE-RADIUS=100;X-TITLE=Columbus
  Library Auditorium:geo:40.7154705,-111.87808580000001
END:VEVENT
BEGIN:VTIMEZONE
TZID:America/Los_Angeles
X-LIC-LOCATION:America/Los_Angeles
BEGIN:DAYLIGHT
DTSTART:20170312T030000
TZOFFSETFROM:-0800
TZOFFSETTO:-0700
TZNAME:PDT
END:DAYLIGHT
END:VTIMEZONE
END:VCALENDAR