BEGIN:VCALENDAR
VERSION:2.0
PRODID:-//wp-events-plugin.com//6.6.4.4//EN
TZID:America/Los_Angeles
X-WR-TIMEZONE:America/Los_Angeles
BEGIN:VEVENT
UID:1-27@yoyocontest.com
DTSTART;TZID=America/Los_Angeles;VALUE=DATE:20170506
DTEND;TZID=America/Los_Angeles;VALUE=DATE:20170507
DTSTAMP:20170216T205058Z
URL:https://yoyocontest.com/events/2017-united-yo-yo-championships/
SUMMARY:2017 United Yo-Yo Championships
DESCRIPTION:For complete information please visit the main contest website:
  https://yoyocontest.com/unitedyoyo/
ATTACH;FMTTYPE=image/jpeg:https://yoyocontest.com/wp-content/uploads/2017/
 02/IMG_3213-169x300.png
CATEGORIES:State Contests
LOCATION:Magnolia Cafe and KDHX Stage\, 3524 Washington Ave\, St. Louis\, M
 O\, 63103\, United States
GEO:38.638587;-90.23042559999999
X-APPLE-STRUCTURED-LOCATION;VALUE=URI;X-ADDRESS=3524 Washington Ave\, St. L
 ouis\, MO\, 63103\, United States;X-APPLE-RADIUS=100;X-TITLE=Magnolia Cafe
  and KDHX Stage:geo:38.638587,-90.23042559999999
END:VEVENT
BEGIN:VTIMEZONE
TZID:America/Los_Angeles
X-LIC-LOCATION:America/Los_Angeles
BEGIN:DAYLIGHT
DTSTART:20170312T030000
TZOFFSETFROM:-0800
TZOFFSETTO:-0700
TZNAME:PDT
END:DAYLIGHT
END:VTIMEZONE
END:VCALENDAR