BEGIN:VCALENDAR
VERSION:2.0
PRODID:-//wp-events-plugin.com//6.6.4.4//EN
TZID:America/Los_Angeles
X-WR-TIMEZONE:America/Los_Angeles
BEGIN:VEVENT
UID:1-26@yoyocontest.com
DTSTART;TZID=America/Los_Angeles:20170408T110000
DTEND;TZID=America/Los_Angeles:20170408T160000
DTSTAMP:20170314T233431Z
URL:https://yoyocontest.com/events/2017-spring-futures-yo-yo-contest/
SUMMARY:2017 Spring Futures Yo-Yo Contest
DESCRIPTION:Join us for the 2017 Spring Futures in the Chico City Plaza!\n\
 nOn Saturday\, April 8th\, we will host the top 18 and under competitors f
 or a fun day of competition. All competitors will be competing for the top
  honors in their age group in the 1A style of play.\n\nPrelims for all age
  groups will start at 11am - these will be 1-minute freestyles.\n\nFollowi
 ng the conclusion of the prelims\, the top 5 competitors in each age group
  will advance to a 2-minute final.\n\nAge divisions are: 10 and under\, 1
 1-12 years\, 13-14 years\, 15-16 years\, and 17-18 years old.\n\nFor more 
 information go to the main contest site at: https://yoyocontest.com/futur
 es/\n\nFor registration: http://yoyoleague.com/e/2017-chico-spring-future
 s-yoyo-contest\n\n&nbsp\;
ATTACH;FMTTYPE=image/jpeg:https://yoyocontest.com/wp-content/uploads/2017/
 02/Futures-Spring-circle.png
LOCATION:Chico City Plaza\, 132 W 4th St\, Chico\, CA\, 95928\, United Stat
 es
GEO:39.72832;-121.839003
X-APPLE-STRUCTURED-LOCATION;VALUE=URI;X-ADDRESS=132 W 4th St\, Chico\, CA\,
  95928\, United States;X-APPLE-RADIUS=100;X-TITLE=Chico City Plaza:geo:39.
 72832,-121.839003
END:VEVENT
BEGIN:VTIMEZONE
TZID:America/Los_Angeles
X-LIC-LOCATION:America/Los_Angeles
BEGIN:DAYLIGHT
DTSTART:20170312T030000
TZOFFSETFROM:-0800
TZOFFSETTO:-0700
TZNAME:PDT
END:DAYLIGHT
END:VTIMEZONE
END:VCALENDAR