BEGIN:VCALENDAR
VERSION:2.0
PRODID:-//wp-events-plugin.com//6.6.4.4//EN
TZID:America/Los_Angeles
X-WR-TIMEZONE:America/Los_Angeles
BEGIN:VEVENT
UID:1-21@yoyocontest.com
DTSTART;TZID=America/Los_Angeles:20170225T090000
DTEND;TZID=America/Los_Angeles:20170225T180000
DTSTAMP:20170218T234026Z
URL:https://yoyocontest.com/events/2017-pacific-north-west/
SUMMARY:2017 Pacific North West Championship
DESCRIPTION:Held at the Seattle Center since 2005\, The Pacific North West 
 Yo-Yo Contest attracts top talent from the region and around the country.
 \n\nThe 2017 contest will be held on February 25th. Championship division
 s finals will be held on the Main Stage\, with preliminary qualifying even
 ts happening in the Armory Lofts.
ATTACH;FMTTYPE=image/jpeg:https://yoyocontest.com/wp-content/uploads/2016/
 09/PNWR-Full2.png
CATEGORIES:Regionals
LOCATION:Seattle Center\, 305 Harrison St.\, Seattle\, WA\, 98109\, United 
 States
GEO:47.6215818;-122.35084899999998
X-APPLE-STRUCTURED-LOCATION;VALUE=URI;X-ADDRESS=305 Harrison St.\, Seattle\
 , WA\, 98109\, United States;X-APPLE-RADIUS=100;X-TITLE=Seattle Center:geo
 :47.6215818,-122.35084899999998
END:VEVENT
BEGIN:VTIMEZONE
TZID:America/Los_Angeles
X-LIC-LOCATION:America/Los_Angeles
BEGIN:STANDARD
DTSTART:20161106T010000
TZOFFSETFROM:-0700
TZOFFSETTO:-0800
TZNAME:PST
END:STANDARD
END:VTIMEZONE
END:VCALENDAR