BEGIN:VCALENDAR
VERSION:2.0
PRODID:-//wp-events-plugin.com//6.6.4.4//EN
TZID:America/Los_Angeles
X-WR-TIMEZONE:America/Los_Angeles
BEGIN:VEVENT
UID:1-31@yoyocontest.com
DTSTART;TZID=America/Los_Angeles;VALUE=DATE:20170422
DTEND;TZID=America/Los_Angeles;VALUE=DATE:20170423
DTSTAMP:20170314T230801Z
URL:https://yoyocontest.com/events/2017-new-jersey-state-yo-yo-contest-the
 -ringmaster-classic/
SUMMARY:2017 New Jersey State Yo-Yo Contest - The Ringmaster Classic
DESCRIPTION:Main contest website for more information&gt\;&gt\;
CATEGORIES:State Contests
LOCATION:Christ Episcopal Church\, 62 Delaware Street\, Woodbury\, NJ\, 080
 96\, United States
GEO:39.8392063;-75.1546869
X-APPLE-STRUCTURED-LOCATION;VALUE=URI;X-ADDRESS=62 Delaware Street\, Woodbu
 ry\, NJ\, 08096\, United States;X-APPLE-RADIUS=100;X-TITLE=Christ Episcopa
 l Church:geo:39.8392063,-75.1546869
END:VEVENT
BEGIN:VTIMEZONE
TZID:America/Los_Angeles
X-LIC-LOCATION:America/Los_Angeles
BEGIN:DAYLIGHT
DTSTART:20170312T030000
TZOFFSETFROM:-0800
TZOFFSETTO:-0700
TZNAME:PDT
END:DAYLIGHT
END:VTIMEZONE
END:VCALENDAR