BEGIN:VCALENDAR
VERSION:2.0
PRODID:-//wp-events-plugin.com//6.6.4.4//EN
TZID:America/Los_Angeles
X-WR-TIMEZONE:America/Los_Angeles
BEGIN:VEVENT
UID:1-28@yoyocontest.com
DTSTART;TZID=America/Los_Angeles:20170415T100000
DTEND;TZID=America/Los_Angeles:20170415T170000
DTSTAMP:20170414T232823Z
URL:https://yoyocontest.com/events/2017-california-state-yo-yo-contest/
SUMMARY:2017 California State Yo-Yo Contest
DESCRIPTION:The 2017 California State Yo-Yo Contest will be held on Saturda
 y\, April 15th at Jack London Square in Alameda\, California.\n\nJoin us f
 or seeking out the top competitors in the Golden State.
ATTACH;FMTTYPE=image/jpeg:https://yoyocontest.com/wp-content/uploads/2017/
 03/IMG_1032.png
CATEGORIES:State Contests
LOCATION:Jack London Square\, 1 Broadway\, Oakland\, CA\, 94607\, United St
 ates
GEO:37.794691024453975;-122.27727384655765
X-APPLE-STRUCTURED-LOCATION;VALUE=URI;X-ADDRESS=1 Broadway\, Oakland\, CA\,
  94607\, United States;X-APPLE-RADIUS=100;X-TITLE=Jack London Square:geo:3
 7.794691024453975,-122.27727384655765
END:VEVENT
BEGIN:VTIMEZONE
TZID:America/Los_Angeles
X-LIC-LOCATION:America/Los_Angeles
BEGIN:DAYLIGHT
DTSTART:20170312T030000
TZOFFSETFROM:-0800
TZOFFSETTO:-0700
TZNAME:PDT
END:DAYLIGHT
END:VTIMEZONE
END:VCALENDAR