BEGIN:VCALENDAR
VERSION:2.0
PRODID:-//wp-events-plugin.com//6.6.4.4//EN
TZID:America/Los_Angeles
X-WR-TIMEZONE:America/Los_Angeles
BEGIN:VEVENT
UID:1-29@yoyocontest.com
DTSTART;TZID=America/Los_Angeles:20170603T000000
DTEND;TZID=America/Los_Angeles:20170603T000000
DTSTAMP:20170529T224159Z
URL:https://yoyocontest.com/events/2017-bay-area-classic/
SUMMARY:2017 Bay Area Classic
DESCRIPTION:The 2017 Bay Area Classic will be held on Saturday\, June 3rd\,
  2017.\nFor 2017\, the BAC returns to its roots and will take place at the
  Children's Discovery Museum in San Jose\, CA!\nPlease visit the main cont
 est website for additional details: https://yoyocontest.com/bayareaclassi
 c/
ATTACH;FMTTYPE=image/jpeg:https://yoyocontest.com/wp-content/uploads/2017/
 03/IMG_1031.jpg
CATEGORIES:Regionals
LOCATION:Children's Discovery Museum\, 180 Woz Way\, San Jose\, CA\, 95110\
 , United States
GEO:37.3268616;-121.89209349999999
X-APPLE-STRUCTURED-LOCATION;VALUE=URI;X-ADDRESS=180 Woz Way\, San Jose\, CA
 \, 95110\, United States;X-APPLE-RADIUS=100;X-TITLE=Children's Discovery M
 useum:geo:37.3268616,-121.89209349999999
END:VEVENT
BEGIN:VTIMEZONE
TZID:America/Los_Angeles
X-LIC-LOCATION:America/Los_Angeles
BEGIN:DAYLIGHT
DTSTART:20170312T030000
TZOFFSETFROM:-0800
TZOFFSETTO:-0700
TZNAME:PDT
END:DAYLIGHT
END:VTIMEZONE
END:VCALENDAR