BEGIN:VCALENDAR
VERSION:2.0
PRODID:-//wp-events-plugin.com//6.6.4.4//EN
TZID:America/Los_Angeles
X-WR-TIMEZONE:America/Los_Angeles
BEGIN:VEVENT
UID:1-23@yoyocontest.com
DTSTART;TZID=America/Los_Angeles;VALUE=DATE:20170304
DTEND;TZID=America/Los_Angeles;VALUE=DATE:20170305
DTSTAMP:20170213T064748Z
URL:https://yoyocontest.com/events/2017-arizona-state-yo-yo-contest/
SUMMARY:2017 Arizona State Yo-Yo Contest
DESCRIPTION:The 2017 Arizona State Yo-Yo Contest will be on Saturday\, Marc
 h 4th\, 2017.\n\nContest website for more detailed information:\n\nhttps:/
 /yoyocontest.com/arizona\n\nRegistration for the 2017 Arizona State Yo-Yo 
 Contest here&gt\;&gt\;
CATEGORIES:State Contests
LOCATION:Arizona State University - Memorial Union\, 301 E. Orange St.\, Te
 mpe\, AZ\, 85281\, United States
GEO:33.4178404;-111.93431299999997
X-APPLE-STRUCTURED-LOCATION;VALUE=URI;X-ADDRESS=301 E. Orange St.\, Tempe\,
  AZ\, 85281\, United States;X-APPLE-RADIUS=100;X-TITLE=Arizona State Unive
 rsity - Memorial Union:geo:33.4178404,-111.93431299999997
END:VEVENT
BEGIN:VTIMEZONE
TZID:America/Los_Angeles
X-LIC-LOCATION:America/Los_Angeles
BEGIN:STANDARD
DTSTART:20161106T010000
TZOFFSETFROM:-0700
TZOFFSETTO:-0800
TZNAME:PST
END:STANDARD
END:VTIMEZONE
END:VCALENDAR