BEGIN:VCALENDAR
VERSION:2.0
PRODID:-//wp-events-plugin.com//6.6.4.4//EN
TZID:America/Los_Angeles
X-WR-TIMEZONE:America/Los_Angeles
BEGIN:VEVENT
UID:1-4@yoyocontest.com
DTSTART;TZID=America/Los_Angeles:20160312T110000
DTEND;TZID=America/Los_Angeles:20160312T163000
DTSTAMP:20160307T233201Z
URL:https://yoyocontest.com/events/2016-arizona-state-yo-yo-contest/
SUMMARY:2016 Arizona State Yo-Yo Contest
DESCRIPTION:For complete details\, please visit the main contest website he
 re&gt\;&gt\;\nWHEN \n\nThe 2016 Arizona State YoYo Contest will be held M
 arch 12th from noon to 4pm. Arrive by 11am to yoyo with others\, and stay 
 after 4 to do the same.\n\n-NOTE: Arrive full since there will be no lunch
  break for ALL!\n\nWHERE\n\nMesa Community College\, Navajo Room (is loc
 ated in the center of campus\, by the "big" clock)\n\n-There is plenty of 
 FREE PARKING on campus!\n\nWHO\n\nOpen to all Players\, Spectators and int
 erested people. All Players must pre-register by March 9th to compete in
  any one division.\n\n-Players will pay $10 at the door and spectators ar
 e free! (This is a cash only event!)\n\n-YOU MAY NOT COMPETE IN MORE THAN 
 ONE DIVISION!!!\n\nWHAT\n\nCompetitors will battle for the title of Arizon
 a State Champion in 4 divisions\, raffle prize draws plus there will be Yo
 -Yo lessons for anyone interested in learning provided by ALL YOYO!\n\nOT
 HER DETAILS\n\nIn order to compete in the freestyle division at any US Sta
 te or Regional Yo-Yo competition as well as the National Yo-Yo Contest\, y
 ou MUST be registered as a competitor with the US National Yo-Yo League. (
 NYYL) Cost is $20 and good for the entire year 2016. Register online here
 : http://yoyo.usetopscore.com/s/111214/League+Competitor\n\nThose competi
 ng in the novice division do not have to become a NYYL member. If you have
  a question about NYYL membership\, please ask.
CATEGORIES:State Contests
LOCATION:Mesa Community College - Navajo Room\, 1833 W Southern Ave\, Mesa\
 , AZ\, 85202\, United States
GEO:33.391673;-111.87201809999999
X-APPLE-STRUCTURED-LOCATION;VALUE=URI;X-ADDRESS=1833 W Southern Ave\, Mesa\
 , AZ\, 85202\, United States;X-APPLE-RADIUS=100;X-TITLE=Mesa Community Col
 lege - Navajo Room:geo:33.391673,-111.87201809999999
END:VEVENT
BEGIN:VTIMEZONE
TZID:America/Los_Angeles
X-LIC-LOCATION:America/Los_Angeles
BEGIN:STANDARD
DTSTART:20151101T010000
TZOFFSETFROM:-0700
TZOFFSETTO:-0800
TZNAME:PST
END:STANDARD
END:VTIMEZONE
END:VCALENDAR